BEGIN:VCALENDAR
VERSION:2.0
PRODID:-//KENSINGTON PUBLIC LIBRARY - ECPv6.15.1.1//NONSGML v1.0//EN
CALSCALE:GREGORIAN
METHOD:PUBLISH
X-WR-CALNAME:KENSINGTON PUBLIC LIBRARY
X-ORIGINAL-URL:https://www.kensingtonpubliclibrary.org
X-WR-CALDESC:Events for KENSINGTON PUBLIC LIBRARY
REFRESH-INTERVAL;VALUE=DURATION:PT1H
X-Robots-Tag:noindex
X-PUBLISHED-TTL:PT1H
BEGIN:VTIMEZONE
TZID:UTC
BEGIN:STANDARD
TZOFFSETFROM:+0000
TZOFFSETTO:+0000
TZNAME:UTC
DTSTART:20240101T000000
END:STANDARD
END:VTIMEZONE
BEGIN:VEVENT
DTSTART;TZID=UTC:20241119T183000
DTEND;TZID=UTC:20241119T193000
DTSTAMP:20260424T120617
CREATED:20241022T214336Z
LAST-MODIFIED:20241022T214336Z
UID:6935-1732041000-1732044600@www.kensingtonpubliclibrary.org
SUMMARY:Book Club: Yellowface by R.F. Kuang
DESCRIPTION:Authors June Hayward and Athena Liu were supposed to be twin rising stars. But Athena’s a literary darling. June Hayward is literally nobody. Who wants stories about basic white girls\, June thinks. \nSo when June witnesses Athena’s death in a freak accident\, she acts on impulse: she steals Athena’s just-finished masterpiece\, an experimental novel about the unsung contributions of Chinese laborers during World War I. \nSo what if June edits Athena’s novel and sends it to her agent as her own work? So what if she lets her new publisher rebrand her as Juniper Song—complete with an ambiguously ethnic author photo? Doesn’t this piece of history deserve to be told\, whoever the teller? That’s what June claims\, and the New York Times bestseller list seems to agree. \nBut June can’t get away from Athena’s shadow\, and emerging evidence threatens to bring June’s (stolen) success down around her. As June races to protect her secret\, she discovers exactly how far she will go to keep what she thinks she deserves. \nBook club will meet on Tuesday\, November 19th at 6:30PM at the library and on Wednesday\, November 20th at 12 noon at Eastman’s corner.
URL:https://www.kensingtonpubliclibrary.org/event/book-club-yellowface-by-r-f-kuang/
LOCATION:Kensington Public Library\, 126 Amesbury Road\, Kensington\, NH\, 03833\, United States
CATEGORIES:Book Club
ATTACH;FMTTYPE=image/jpeg:https://www.kensingtonpubliclibrary.org/wp-content/uploads/2024/10/61pZ0M900BL._AC_UF10001000_QL80_.jpg
END:VEVENT
END:VCALENDAR