BEGIN:VCALENDAR
VERSION:2.0
PRODID:-//KENSINGTON PUBLIC LIBRARY - ECPv6.15.1.1//NONSGML v1.0//EN
CALSCALE:GREGORIAN
METHOD:PUBLISH
X-ORIGINAL-URL:https://www.kensingtonpubliclibrary.org
X-WR-CALDESC:Events for KENSINGTON PUBLIC LIBRARY
REFRESH-INTERVAL;VALUE=DURATION:PT1H
X-Robots-Tag:noindex
X-PUBLISHED-TTL:PT1H
BEGIN:VTIMEZONE
TZID:UTC
BEGIN:STANDARD
TZOFFSETFROM:+0000
TZOFFSETTO:+0000
TZNAME:UTC
DTSTART:20240101T000000
END:STANDARD
END:VTIMEZONE
BEGIN:VEVENT
DTSTART;TZID=UTC:20241123T110000
DTEND;TZID=UTC:20241123T130000
DTSTAMP:20260424T120649
CREATED:20241022T214047Z
LAST-MODIFIED:20241108T181035Z
UID:6933-1732359600-1732366800@www.kensingtonpubliclibrary.org
SUMMARY:Needle Felting Workshop
DESCRIPTION:Julie Cyr returns to the library for another needle felting workshop for teens and adults. \nThis class is limited to 12 participants so please let us know if you would like to sign up!
URL:https://www.kensingtonpubliclibrary.org/event/felting-workshop/
ATTACH;FMTTYPE=image/jpeg:https://www.kensingtonpubliclibrary.org/wp-content/uploads/2024/10/felt-ornament.jpg
END:VEVENT
END:VCALENDAR