BEGIN:VCALENDAR
VERSION:2.0
PRODID:-//KENSINGTON PUBLIC LIBRARY - ECPv6.15.1.1//NONSGML v1.0//EN
CALSCALE:GREGORIAN
METHOD:PUBLISH
X-WR-CALNAME:KENSINGTON PUBLIC LIBRARY
X-ORIGINAL-URL:https://www.kensingtonpubliclibrary.org
X-WR-CALDESC:Events for KENSINGTON PUBLIC LIBRARY
REFRESH-INTERVAL;VALUE=DURATION:PT1H
X-Robots-Tag:noindex
X-PUBLISHED-TTL:PT1H
BEGIN:VTIMEZONE
TZID:America/New_York
BEGIN:DAYLIGHT
TZOFFSETFROM:-0500
TZOFFSETTO:-0400
TZNAME:EDT
DTSTART:20250309T070000
END:DAYLIGHT
BEGIN:STANDARD
TZOFFSETFROM:-0400
TZOFFSETTO:-0500
TZNAME:EST
DTSTART:20251102T060000
END:STANDARD
END:VTIMEZONE
BEGIN:VEVENT
DTSTART;TZID=America/New_York:20250403T130000
DTEND;TZID=America/New_York:20250403T140000
DTSTAMP:20260424T051329
CREATED:20250402T144400Z
LAST-MODIFIED:20250402T144400Z
UID:7059-1743685200-1743688800@www.kensingtonpubliclibrary.org
SUMMARY:Story Time
DESCRIPTION:Join us for Story Time! Each week we explore a different theme through stories\, songs\, games\, and a craft\, followed by playtime.
URL:https://www.kensingtonpubliclibrary.org/event/story-time-5/
CATEGORIES:Kids,Story Time
END:VEVENT
END:VCALENDAR