BEGIN:VCALENDAR
VERSION:2.0
PRODID:-//KENSINGTON PUBLIC LIBRARY - ECPv6.15.1.1//NONSGML v1.0//EN
CALSCALE:GREGORIAN
METHOD:PUBLISH
X-WR-CALNAME:KENSINGTON PUBLIC LIBRARY
X-ORIGINAL-URL:https://www.kensingtonpubliclibrary.org
X-WR-CALDESC:Events for KENSINGTON PUBLIC LIBRARY
REFRESH-INTERVAL;VALUE=DURATION:PT1H
X-Robots-Tag:noindex
X-PUBLISHED-TTL:PT1H
BEGIN:VTIMEZONE
TZID:America/New_York
BEGIN:DAYLIGHT
TZOFFSETFROM:-0500
TZOFFSETTO:-0400
TZNAME:EDT
DTSTART:20250309T070000
END:DAYLIGHT
BEGIN:STANDARD
TZOFFSETFROM:-0400
TZOFFSETTO:-0500
TZNAME:EST
DTSTART:20251102T060000
END:STANDARD
END:VTIMEZONE
BEGIN:VEVENT
DTSTART;TZID=America/New_York:20250731T150000
DTEND;TZID=America/New_York:20250731T160000
DTSTAMP:20260423T233428
CREATED:20250531T164118Z
LAST-MODIFIED:20250531T164118Z
UID:7179-1753974000-1753977600@www.kensingtonpubliclibrary.org
SUMMARY:Jumbo Animal Collages
DESCRIPTION:Join us in making Jumbo Animal Collages at the library! \nPlease call or e-mail the Kensington Public Library to sign up for each program.\n(603) 772-5022 • kensingtonlibrary@comcast.net
URL:https://www.kensingtonpubliclibrary.org/event/jumbo-animal-collages/
CATEGORIES:Summer Reading Program
END:VEVENT
END:VCALENDAR