BEGIN:VCALENDAR
VERSION:2.0
PRODID:-//KENSINGTON PUBLIC LIBRARY - ECPv6.15.1.1//NONSGML v1.0//EN
CALSCALE:GREGORIAN
METHOD:PUBLISH
X-WR-CALNAME:KENSINGTON PUBLIC LIBRARY
X-ORIGINAL-URL:https://www.kensingtonpubliclibrary.org
X-WR-CALDESC:Events for KENSINGTON PUBLIC LIBRARY
REFRESH-INTERVAL;VALUE=DURATION:PT1H
X-Robots-Tag:noindex
X-PUBLISHED-TTL:PT1H
BEGIN:VTIMEZONE
TZID:America/New_York
BEGIN:DAYLIGHT
TZOFFSETFROM:-0500
TZOFFSETTO:-0400
TZNAME:EDT
DTSTART:20250309T070000
END:DAYLIGHT
BEGIN:STANDARD
TZOFFSETFROM:-0400
TZOFFSETTO:-0500
TZNAME:EST
DTSTART:20251102T060000
END:STANDARD
END:VTIMEZONE
BEGIN:VEVENT
DTSTART;TZID=America/New_York:20250917T140000
DTEND;TZID=America/New_York:20250917T140000
DTSTAMP:20260423T222019
CREATED:20250829T174601Z
LAST-MODIFIED:20250829T174601Z
UID:7386-1758117600-1758117600@www.kensingtonpubliclibrary.org
SUMMARY:Cribbage
DESCRIPTION:Open to all!\nEvery Wednesday at 2PM
URL:https://www.kensingtonpubliclibrary.org/event/cribbage-3/
END:VEVENT
BEGIN:VEVENT
DTSTART;TZID=America/New_York:20250917T190000
DTEND;TZID=America/New_York:20250917T200000
DTSTAMP:20260423T222019
CREATED:20250829T163709Z
LAST-MODIFIED:20250829T163709Z
UID:7347-1758135600-1758139200@www.kensingtonpubliclibrary.org
SUMMARY:Impossible Realities: The Art of M.C. Escher presented by Jane Oneail
DESCRIPTION:Jane Oneail returns virtually to present another wonderful art talk.   This time she will present: Impossible Realities: The Art of M.C. Escher \nM.C. Escher\, the Dutch graphic artist\, was a master of mind-bending creations\,blending art and mathematics. Born in 1898\, Escher’s journey from a struggling student to a renowned artist is as fascinating as his intricate lithographs and woodcuts. \nThis program will explore Escher’s life\, his unique artistic vision\, and the mathematical concepts that underpin his most famous works\, offering a glimpse into the imagination of one of the 20th century’s most innovative artists. \nPlease contact the library for the link for virtual events.
URL:https://www.kensingtonpubliclibrary.org/event/impossible-realities-the-art-of-m-c-escher-presented-by-jane-oneail/
LOCATION:Virtual Event
CATEGORIES:Virtual Event
END:VEVENT
END:VCALENDAR