BEGIN:VCALENDAR
VERSION:2.0
PRODID:-//KENSINGTON PUBLIC LIBRARY - ECPv6.15.1.1//NONSGML v1.0//EN
CALSCALE:GREGORIAN
METHOD:PUBLISH
X-WR-CALNAME:KENSINGTON PUBLIC LIBRARY
X-ORIGINAL-URL:https://www.kensingtonpubliclibrary.org
X-WR-CALDESC:Events for KENSINGTON PUBLIC LIBRARY
REFRESH-INTERVAL;VALUE=DURATION:PT1H
X-Robots-Tag:noindex
X-PUBLISHED-TTL:PT1H
BEGIN:VTIMEZONE
TZID:America/New_York
BEGIN:DAYLIGHT
TZOFFSETFROM:-0500
TZOFFSETTO:-0400
TZNAME:EDT
DTSTART:20250309T070000
END:DAYLIGHT
BEGIN:STANDARD
TZOFFSETFROM:-0400
TZOFFSETTO:-0500
TZNAME:EST
DTSTART:20251102T060000
END:STANDARD
END:VTIMEZONE
BEGIN:VEVENT
DTSTART;VALUE=DATE:20251127
DTEND;VALUE=DATE:20251129
DTSTAMP:20260423T193232
CREATED:20251122T154313Z
LAST-MODIFIED:20251122T154313Z
UID:7477-1764201600-1764374399@www.kensingtonpubliclibrary.org
SUMMARY:LIBRARY CLOSED
DESCRIPTION:We will be closed Thursday\, November 27th and Friday\, November 28th for the Thanksgiving holiday.   \nWe’ll open again Saturday\, November 29th from 9-1.
URL:https://www.kensingtonpubliclibrary.org/event/library-closed-2/
END:VEVENT
END:VCALENDAR