BEGIN:VCALENDAR
VERSION:2.0
PRODID:-//KENSINGTON PUBLIC LIBRARY - ECPv6.15.1.1//NONSGML v1.0//EN
CALSCALE:GREGORIAN
METHOD:PUBLISH
X-ORIGINAL-URL:https://www.kensingtonpubliclibrary.org
X-WR-CALDESC:Events for KENSINGTON PUBLIC LIBRARY
REFRESH-INTERVAL;VALUE=DURATION:PT1H
X-Robots-Tag:noindex
X-PUBLISHED-TTL:PT1H
BEGIN:VTIMEZONE
TZID:UTC
BEGIN:STANDARD
TZOFFSETFROM:+0000
TZOFFSETTO:+0000
TZNAME:UTC
DTSTART:20240101T000000
END:STANDARD
END:VTIMEZONE
BEGIN:VEVENT
DTSTART;TZID=UTC:20241023T173000
DTEND;TZID=UTC:20241023T190000
DTSTAMP:20260424T190943
CREATED:20241005T143609Z
LAST-MODIFIED:20241005T145703Z
UID:6897-1729704600-1729710000@www.kensingtonpubliclibrary.org
SUMMARY:A Dramatic Recital of The Raven by Edgar Allan Poe with Jeffrey Zygmont
DESCRIPTION:Just in time for Halloween!  Jeffrey returns to Kensington Library to do a recital of Poe’s long\, spooky poem The Raven\, along with a few props that help really bring it to life. \nJeffrey was here last February for an animated talk about Robert Frost.
URL:https://www.kensingtonpubliclibrary.org/event/a-dramatic-recital-of-the-raven-by-edgar-allan-poe-with-jeffrey-zygmont/
CATEGORIES:In Person Event
ATTACH;FMTTYPE=image/png:https://www.kensingtonpubliclibrary.org/wp-content/uploads/2024/10/Raven-graphic-9.png
END:VEVENT
END:VCALENDAR