BEGIN:VCALENDAR
VERSION:2.0
PRODID:-//KENSINGTON PUBLIC LIBRARY - ECPv6.15.1.1//NONSGML v1.0//EN
CALSCALE:GREGORIAN
METHOD:PUBLISH
X-WR-CALNAME:KENSINGTON PUBLIC LIBRARY
X-ORIGINAL-URL:https://www.kensingtonpubliclibrary.org
X-WR-CALDESC:Events for KENSINGTON PUBLIC LIBRARY
REFRESH-INTERVAL;VALUE=DURATION:PT1H
X-Robots-Tag:noindex
X-PUBLISHED-TTL:PT1H
BEGIN:VTIMEZONE
TZID:America/New_York
BEGIN:DAYLIGHT
TZOFFSETFROM:-0500
TZOFFSETTO:-0400
TZNAME:EDT
DTSTART:20250309T070000
END:DAYLIGHT
BEGIN:STANDARD
TZOFFSETFROM:-0400
TZOFFSETTO:-0500
TZNAME:EST
DTSTART:20251102T060000
END:STANDARD
BEGIN:DAYLIGHT
TZOFFSETFROM:-0500
TZOFFSETTO:-0400
TZNAME:EDT
DTSTART:20260308T070000
END:DAYLIGHT
BEGIN:STANDARD
TZOFFSETFROM:-0400
TZOFFSETTO:-0500
TZNAME:EST
DTSTART:20261101T060000
END:STANDARD
END:VTIMEZONE
BEGIN:VTIMEZONE
TZID:UTC
BEGIN:STANDARD
TZOFFSETFROM:+0000
TZOFFSETTO:+0000
TZNAME:UTC
DTSTART:20240101T000000
END:STANDARD
END:VTIMEZONE
BEGIN:VEVENT
DTSTART;TZID=America/New_York:20260325T173000
DTEND;TZID=America/New_York:20260325T183000
DTSTAMP:20260423T181507
CREATED:20260220T184225Z
LAST-MODIFIED:20260220T184225Z
UID:7624-1774459800-1774463400@www.kensingtonpubliclibrary.org
SUMMARY:"Unpacking the Declaration of Independence: What It Meant Then and Now" presented by David Alcox
DESCRIPTION:David Alcox presents:\nUnpacking the Declaration of Independence: What It Meant Then and Now\nLearn about the text of the Declaration of Independence\, who the key players were\, the Enlightenment influence and if the values espoused in the Declaration are still relevant today. \nThis is an in-person event at the library.
URL:https://www.kensingtonpubliclibrary.org/event/unpacking-the-declaration-of-independence-what-it-meant-then-and-now-presented-by-david-alcox/
CATEGORIES:In Person Event
END:VEVENT
BEGIN:VEVENT
DTSTART;TZID=America/New_York:20260308T150000
DTEND;TZID=America/New_York:20260308T160000
DTSTAMP:20260423T181507
CREATED:20260220T184041Z
LAST-MODIFIED:20260220T184309Z
UID:7622-1772982000-1772985600@www.kensingtonpubliclibrary.org
SUMMARY:"Robert Frost on the Farm: New Hampshire Farming in 1900 as told by the poet" presented by Jeffrey Zygmont
DESCRIPTION:Jeffrey Zygmont returns to the library for another fascinating talk on Robert Frost. Robert Frost on the Farm: New Hampshire Farming in 1900 as told by the poet. While it makes spoken words sing like sauntering music\, Robert Frost’s poetry can also help us appreciate the rigor of life on a New England farm in the early 20th century (hint: It was hard.) \n  \nThis is an in-person event at the library.
URL:https://www.kensingtonpubliclibrary.org/event/robert-frost-on-the-farm-new-hampshire-farming-in-1900-as-told-by-the-poet-presented-by-jeffrey-zygmont/
CATEGORIES:In Person Event
ATTACH;FMTTYPE=image/jpeg:https://www.kensingtonpubliclibrary.org/wp-content/uploads/2026/02/Robertfrostfarm.jpg
END:VEVENT
BEGIN:VEVENT
DTSTART;TZID=America/New_York:20251204T180000
DTEND;TZID=America/New_York:20251204T193000
DTSTAMP:20260423T181507
CREATED:20251122T154536Z
LAST-MODIFIED:20251122T154629Z
UID:7479-1764871200-1764876600@www.kensingtonpubliclibrary.org
SUMMARY:Boxwood Tree Workshop
DESCRIPTION:**REGISTRATION REQUIRED** \nBoxwood Tree Workshop \nwith Felicia Motherway \n$25 for Kensington Residents \n$50 all others if spaces available \nSpaces are limited! 25 spaces available \nPlease CALL the library 603-772-5022 \nto reserve your spot. \nPlease drop off or mail check before Wednesday\, December 3rd
URL:https://www.kensingtonpubliclibrary.org/event/boxwood-tree-workshop/
CATEGORIES:In Person Event
END:VEVENT
BEGIN:VEVENT
DTSTART;TZID=America/New_York:20251101T110000
DTEND;TZID=America/New_York:20251101T130000
DTSTAMP:20260423T181507
CREATED:20250829T164248Z
LAST-MODIFIED:20250829T164248Z
UID:7358-1761994800-1762002000@www.kensingtonpubliclibrary.org
SUMMARY:Needle Felted Owls (craft)
DESCRIPTION:Julie Cyr returns to the library for a fun needle felting activity to make owls. \n(class limited to 12) \nPlease call the library to sign up.
URL:https://www.kensingtonpubliclibrary.org/event/needle-felted-owls-craft/
LOCATION:Kensington Public Library Sawyer Room\, 126 Amesbury Road\, Kensington\, NH\, 03833\, United States
CATEGORIES:In Person Event
END:VEVENT
BEGIN:VEVENT
DTSTART;TZID=America/New_York:20251008T170000
DTEND;TZID=America/New_York:20251008T180000
DTSTAMP:20260423T181507
CREATED:20250829T163933Z
LAST-MODIFIED:20250829T163933Z
UID:7351-1759942800-1759946400@www.kensingtonpubliclibrary.org
SUMMARY:Jeffrey Zygmont presents: Graveyard Sounds Haunting Words by Edgar Allan Poe and Emily Dickinson
DESCRIPTION:Greet Halloween with delightfully spooky poems and stories by two American masters\, Emily Dickinson and Edgar Allan Poe. The recital features gruesome poems in a pounding cadence by Poe\, his sinister short story \nThe Tell-Tale Heart and quietly haunting\, eerie and elusive works by Dickinson. \nHelpful explanations provided with each of the time-honored works help you fully understand\, appreciate and enjoy them. Creepy props enhance the Halloween atmosphere.
URL:https://www.kensingtonpubliclibrary.org/event/jeffrey-zygmont-presents-graveyard-sounds-haunting-words-by-edgar-allan-poe-and-emily-dickinson/
LOCATION:Kensington Public Library Sawyer Room\, 126 Amesbury Road\, Kensington\, NH\, 03833\, United States
CATEGORIES:In Person Event
END:VEVENT
BEGIN:VEVENT
DTSTART;TZID=America/New_York:20250506T173000
DTEND;TZID=America/New_York:20250506T183000
DTSTAMP:20260423T181507
CREATED:20250402T145140Z
LAST-MODIFIED:20250402T145140Z
UID:7073-1746552600-1746556200@www.kensingtonpubliclibrary.org
SUMMARY:Egizia Brown: learn about Italy
DESCRIPTION:Join us and learn about Italy through the eyes of Egizia Brown\, the author of Rough Seas and Strange Food: Emigrating from Abruzza to Nova Scotia and  From Vico to Porta Nuova and Beyond: Memories of an Abruzzo Childhood. \nBesides teaching us about her native country\, she will also be bringing Italian cookies.  
URL:https://www.kensingtonpubliclibrary.org/event/egizia-brown-learn-about-italy/
CATEGORIES:In Person Event
END:VEVENT
BEGIN:VEVENT
DTSTART;TZID=America/New_York:20250425T130000
DTEND;TZID=America/New_York:20250425T150000
DTSTAMP:20260423T181507
CREATED:20250402T144948Z
LAST-MODIFIED:20250413T002336Z
UID:7071-1745586000-1745593200@www.kensingtonpubliclibrary.org
SUMMARY:Ellie Atherton:  The Last Phase of Life:  Preparation ~ Caregiving ~ Embracing the Mystery
DESCRIPTION:Join us for a meaningful conversation and Ellie’s practical guidance on preparing for the final phase of life. This will be a wonderful opportunity to learn from her many years of experience. \nTopics will include: \n\nUnderstanding Advance Directives\, Portable DNR\, and POLST\nWhen to start planning\nBecoming a caregiver\nRecognizing the phases – life review\, physical changes\, last days\, death bed visions\, and final hours\nHaving eyes for the mystery and beauty during this sacred time of life\n\n  \nEllie Atherton\, RN\, author of Stepping Stones\, has been caring for the dying as a hospice nurse since 2003. She has presented a TEDx talk\, designed and taught courses\, and offers public presentations to enhance knowledge and reduce fears of dying.
URL:https://www.kensingtonpubliclibrary.org/event/ellie-atherton-the-last-phase-of-life-preparation-caregiving-embracing-the-mystery/
CATEGORIES:In Person Event
END:VEVENT
BEGIN:VEVENT
DTSTART;TZID=UTC:20250309T150000
DTEND;TZID=UTC:20250309T160000
DTSTAMP:20260423T181507
CREATED:20250110T194403Z
LAST-MODIFIED:20250110T194403Z
UID:7004-1741532400-1741536000@www.kensingtonpubliclibrary.org
SUMMARY:Richard Kruppa presents World War II Songs and Stories
DESCRIPTION: In an entertaining and informational fashion\, Richard Kruppa presents World War II Songs and Stories.      \nThis program\, “illustrated” with music\, celebrates the 80th anniversary of the end of the war.  \nExeter’s Kruppa\, known musically as “Ramblin’ Richard\,” is a member of the New England Foundation for the Arts. He is retired professor who studied Gospel and American folk music\, and an active musician who makes more than 300 performances each year. He tells the stories and sings the songs while accompanying himself on guitar\, five-string banjo and baritone ukulele. (pix of Richard ) \n 
URL:https://www.kensingtonpubliclibrary.org/event/richard-kruppa-presents-world-war-ii-songs-and-stories/
LOCATION:Kensington Public Library\, 126 Amesbury Road\, Kensington\, NH\, 03833\, United States
CATEGORIES:In Person Event
END:VEVENT
BEGIN:VEVENT
DTSTART;TZID=UTC:20250305T173000
DTEND;TZID=UTC:20250305T173000
DTSTAMP:20260423T181507
CREATED:20250110T194252Z
LAST-MODIFIED:20250110T194252Z
UID:7002-1741195800-1741195800@www.kensingtonpubliclibrary.org
SUMMARY:Breeding Season Backyard Birds  with Steve Hale
DESCRIPTION:This is an engaging and interactive presentation featuring common and likely breeding season birds to any backyard in New England.  This presentation offers ID tips\, including learning a few birds by their song. Tips on feeding birds to attract the most diversity are also provided. Set up as a bird-quiz\, audience members love to test their own knowledge. \n 
URL:https://www.kensingtonpubliclibrary.org/event/breeding-season-backyard-birds-with-steve-hale/
LOCATION:Kensington Public Library\, 126 Amesbury Road\, Kensington\, NH\, 03833\, United States
CATEGORIES:In Person Event
END:VEVENT
BEGIN:VEVENT
DTSTART;TZID=UTC:20241023T173000
DTEND;TZID=UTC:20241023T190000
DTSTAMP:20260423T181507
CREATED:20241005T143609Z
LAST-MODIFIED:20241005T145703Z
UID:6897-1729704600-1729710000@www.kensingtonpubliclibrary.org
SUMMARY:A Dramatic Recital of The Raven by Edgar Allan Poe with Jeffrey Zygmont
DESCRIPTION:Just in time for Halloween!  Jeffrey returns to Kensington Library to do a recital of Poe’s long\, spooky poem The Raven\, along with a few props that help really bring it to life. \nJeffrey was here last February for an animated talk about Robert Frost.
URL:https://www.kensingtonpubliclibrary.org/event/a-dramatic-recital-of-the-raven-by-edgar-allan-poe-with-jeffrey-zygmont/
CATEGORIES:In Person Event
ATTACH;FMTTYPE=image/png:https://www.kensingtonpubliclibrary.org/wp-content/uploads/2024/10/Raven-graphic-9.png
END:VEVENT
BEGIN:VEVENT
DTSTART;TZID=UTC:20241016T170000
DTEND;TZID=UTC:20241016T183000
DTSTAMP:20260423T181507
CREATED:20241005T143406Z
LAST-MODIFIED:20241005T150151Z
UID:6895-1729098000-1729103400@www.kensingtonpubliclibrary.org
SUMMARY:Becoming Wolf: Eastern Coyotes in New Hampshire
DESCRIPTION:Chris Schadler returns to KPL for a talk on Becoming Wolf: Eastern Coyotes in New Hampshire \nMyths surround the coyote and cloud our understanding of it. Originating as the \nsmaller western coyote\, eastern coyotes share genes with the eastern wolf and \nGreat Lakes Gray Wolf. Its hybrid nature enables its resilience and adaptability to \nlive in farms\, forest\, or cities. While livestock are not its natural prey\, sheep\, goat \nand chicken farmers can coexist and even benefit from their presence. \nIt has rewilded the northeast with its howl and ability to prey on large and small \nmammals but despite its ecological benefits\, it is the most persecuted carnivore in \nNorth America. And despite human efforts to eradicate it\, it survives and thrives \namong us. \nChris holds a Masters in Conservation Biology and offers 40 years of \nresearch and specialization in wild canids\, particularly the Eastern Wolf \nand the Eastern Coyote. Now retired from teaching Conservation\, \nDendrology and Wolf Ecology at UNH and Conservation at Granite \n​State College\, she provides education and presentations throughout New \nEngland.
URL:https://www.kensingtonpubliclibrary.org/event/becoming-wolf-eastern-coyotes-in-new-hampshire/
CATEGORIES:In Person Event
ATTACH;FMTTYPE=image/jpeg:https://www.kensingtonpubliclibrary.org/wp-content/uploads/2024/10/cape-coyote.jpg
END:VEVENT
END:VCALENDAR