BEGIN:VCALENDAR
VERSION:2.0
PRODID:-//KENSINGTON PUBLIC LIBRARY - ECPv6.15.1.1//NONSGML v1.0//EN
CALSCALE:GREGORIAN
METHOD:PUBLISH
X-ORIGINAL-URL:https://www.kensingtonpubliclibrary.org
X-WR-CALDESC:Events for KENSINGTON PUBLIC LIBRARY
REFRESH-INTERVAL;VALUE=DURATION:PT1H
X-Robots-Tag:noindex
X-PUBLISHED-TTL:PT1H
BEGIN:VTIMEZONE
TZID:America/New_York
BEGIN:DAYLIGHT
TZOFFSETFROM:-0500
TZOFFSETTO:-0400
TZNAME:EDT
DTSTART:20250309T070000
END:DAYLIGHT
BEGIN:STANDARD
TZOFFSETFROM:-0400
TZOFFSETTO:-0500
TZNAME:EST
DTSTART:20251102T060000
END:STANDARD
BEGIN:DAYLIGHT
TZOFFSETFROM:-0500
TZOFFSETTO:-0400
TZNAME:EDT
DTSTART:20260308T070000
END:DAYLIGHT
BEGIN:STANDARD
TZOFFSETFROM:-0400
TZOFFSETTO:-0500
TZNAME:EST
DTSTART:20261101T060000
END:STANDARD
END:VTIMEZONE
BEGIN:VEVENT
DTSTART;TZID=America/New_York:20260423T130000
DTEND;TZID=America/New_York:20260423T140000
DTSTAMP:20260423T163257
CREATED:20260131T150154Z
LAST-MODIFIED:20260131T150154Z
UID:7577-1776949200-1776952800@www.kensingtonpubliclibrary.org
SUMMARY:Story Time
DESCRIPTION:Join us for Story Time! Each week we explore a different theme through stories\, songs\, games\, and a craft\, followed by playtime.
URL:https://www.kensingtonpubliclibrary.org/event/story-time-46/
CATEGORIES:Story Time
END:VEVENT
BEGIN:VEVENT
DTSTART;TZID=America/New_York:20260421T103000
DTEND;TZID=America/New_York:20260421T233000
DTSTAMP:20260423T163257
CREATED:20260131T150122Z
LAST-MODIFIED:20260131T150122Z
UID:7575-1776767400-1776814200@www.kensingtonpubliclibrary.org
SUMMARY:Story Time
DESCRIPTION:Join us for Story Time! Each week we explore a different theme through stories\, songs\, games\, and a craft\, followed by playtime.
URL:https://www.kensingtonpubliclibrary.org/event/story-time-45/
CATEGORIES:Story Time
END:VEVENT
BEGIN:VEVENT
DTSTART;TZID=America/New_York:20260416T130000
DTEND;TZID=America/New_York:20260416T140000
DTSTAMP:20260423T163257
CREATED:20260131T150043Z
LAST-MODIFIED:20260131T150043Z
UID:7573-1776344400-1776348000@www.kensingtonpubliclibrary.org
SUMMARY:Story Time
DESCRIPTION:Join us for Story Time! Each week we explore a different theme through stories\, songs\, games\, and a craft\, followed by playtime.
URL:https://www.kensingtonpubliclibrary.org/event/story-time-44/
CATEGORIES:Story Time
END:VEVENT
BEGIN:VEVENT
DTSTART;TZID=America/New_York:20260414T103000
DTEND;TZID=America/New_York:20260414T113000
DTSTAMP:20260423T163257
CREATED:20260131T150019Z
LAST-MODIFIED:20260131T150019Z
UID:7571-1776162600-1776166200@www.kensingtonpubliclibrary.org
SUMMARY:Story Time
DESCRIPTION:Join us for Story Time! Each week we explore a different theme through stories\, songs\, games\, and a craft\, followed by playtime.
URL:https://www.kensingtonpubliclibrary.org/event/story-time-43/
CATEGORIES:Story Time
END:VEVENT
BEGIN:VEVENT
DTSTART;TZID=America/New_York:20260409T130000
DTEND;TZID=America/New_York:20260409T140000
DTSTAMP:20260423T163257
CREATED:20260124T171511Z
LAST-MODIFIED:20260124T171511Z
UID:7556-1775739600-1775743200@www.kensingtonpubliclibrary.org
SUMMARY:Story Time
DESCRIPTION:Join us for Story Time! Each week we explore a different theme through stories\, songs\, games\, and a craft\, followed by playtime.
URL:https://www.kensingtonpubliclibrary.org/event/story-time-32/
CATEGORIES:Story Time
END:VEVENT
BEGIN:VEVENT
DTSTART;TZID=America/New_York:20260407T103000
DTEND;TZID=America/New_York:20260407T113000
DTSTAMP:20260423T163257
CREATED:20260124T171452Z
LAST-MODIFIED:20260124T171452Z
UID:7554-1775557800-1775561400@www.kensingtonpubliclibrary.org
SUMMARY:Story Time
DESCRIPTION:Join us for Story Time! Each week we explore a different theme through stories\, songs\, games\, and a craft\, followed by playtime.
URL:https://www.kensingtonpubliclibrary.org/event/story-time-24/
CATEGORIES:Story Time
END:VEVENT
BEGIN:VEVENT
DTSTART;TZID=America/New_York:20260402T130000
DTEND;TZID=America/New_York:20260402T140000
DTSTAMP:20260423T163257
CREATED:20260124T171320Z
LAST-MODIFIED:20260124T171339Z
UID:7552-1775134800-1775138400@www.kensingtonpubliclibrary.org
SUMMARY:Story Time
DESCRIPTION:Join us for Story Time! Each week we explore a different theme through stories\, songs\, games\, and a craft\, followed by playtime.
URL:https://www.kensingtonpubliclibrary.org/event/story-time-42/
CATEGORIES:Story Time
END:VEVENT
BEGIN:VEVENT
DTSTART;TZID=America/New_York:20260331T103000
DTEND;TZID=America/New_York:20260331T113000
DTSTAMP:20260423T163257
CREATED:20260124T171203Z
LAST-MODIFIED:20260124T171203Z
UID:7548-1774953000-1774956600@www.kensingtonpubliclibrary.org
SUMMARY:Story Time
DESCRIPTION:Join us for Story Time! Each week we explore a different theme through stories\, songs\, games\, and a craft\, followed by playtime.
URL:https://www.kensingtonpubliclibrary.org/event/story-time-40/
CATEGORIES:Story Time
END:VEVENT
BEGIN:VEVENT
DTSTART;TZID=America/New_York:20260326T130000
DTEND;TZID=America/New_York:20260326T140000
DTSTAMP:20260423T163257
CREATED:20260124T171131Z
LAST-MODIFIED:20260124T171131Z
UID:7546-1774530000-1774533600@www.kensingtonpubliclibrary.org
SUMMARY:Story Time
DESCRIPTION:Join us for Story Time! Each week we explore a different theme through stories\, songs\, games\, and a craft\, followed by playtime.
URL:https://www.kensingtonpubliclibrary.org/event/story-time-39/
CATEGORIES:Story Time
END:VEVENT
BEGIN:VEVENT
DTSTART;TZID=America/New_York:20260324T103000
DTEND;TZID=America/New_York:20260324T113000
DTSTAMP:20260423T163257
CREATED:20260124T171108Z
LAST-MODIFIED:20260124T171108Z
UID:7544-1774348200-1774351800@www.kensingtonpubliclibrary.org
SUMMARY:Story Time
DESCRIPTION:Join us for Story Time! Each week we explore a different theme through stories\, songs\, games\, and a craft\, followed by playtime.
URL:https://www.kensingtonpubliclibrary.org/event/story-time-38/
CATEGORIES:Story Time
END:VEVENT
BEGIN:VEVENT
DTSTART;TZID=America/New_York:20260319T130000
DTEND;TZID=America/New_York:20260319T140000
DTSTAMP:20260423T163257
CREATED:20260124T171040Z
LAST-MODIFIED:20260124T171040Z
UID:7542-1773925200-1773928800@www.kensingtonpubliclibrary.org
SUMMARY:Story Time
DESCRIPTION:Join us for Story Time! Each week we explore a different theme through stories\, songs\, games\, and a craft\, followed by playtime.
URL:https://www.kensingtonpubliclibrary.org/event/story-time-37/
CATEGORIES:Story Time
END:VEVENT
BEGIN:VEVENT
DTSTART;TZID=America/New_York:20260317T103000
DTEND;TZID=America/New_York:20260317T113000
DTSTAMP:20260423T163257
CREATED:20260124T171015Z
LAST-MODIFIED:20260124T171015Z
UID:7540-1773743400-1773747000@www.kensingtonpubliclibrary.org
SUMMARY:Story Time
DESCRIPTION:Join us for Story Time! Each week we explore a different theme through stories\, songs\, games\, and a craft\, followed by playtime.
URL:https://www.kensingtonpubliclibrary.org/event/story-time-36/
CATEGORIES:Story Time
END:VEVENT
BEGIN:VEVENT
DTSTART;TZID=America/New_York:20260312T130000
DTEND;TZID=America/New_York:20260312T140000
DTSTAMP:20260423T163257
CREATED:20260124T170943Z
LAST-MODIFIED:20260124T170943Z
UID:7538-1773320400-1773324000@www.kensingtonpubliclibrary.org
SUMMARY:Story Time
DESCRIPTION:Join us for Story Time! Each week we explore a different theme through stories\, songs\, games\, and a craft\, followed by playtime.
URL:https://www.kensingtonpubliclibrary.org/event/story-time-35/
CATEGORIES:Story Time
END:VEVENT
BEGIN:VEVENT
DTSTART;TZID=America/New_York:20260310T103000
DTEND;TZID=America/New_York:20260310T113000
DTSTAMP:20260423T163257
CREATED:20260124T170921Z
LAST-MODIFIED:20260124T170921Z
UID:7536-1773138600-1773142200@www.kensingtonpubliclibrary.org
SUMMARY:Story Time
DESCRIPTION:Join us for Story Time! Each week we explore a different theme through stories\, songs\, games\, and a craft\, followed by playtime.
URL:https://www.kensingtonpubliclibrary.org/event/story-time-34/
CATEGORIES:Story Time
END:VEVENT
BEGIN:VEVENT
DTSTART;TZID=America/New_York:20260305T080000
DTEND;TZID=America/New_York:20260305T170000
DTSTAMP:20260423T163257
CREATED:20260124T170901Z
LAST-MODIFIED:20260124T170901Z
UID:7534-1772697600-1772730000@www.kensingtonpubliclibrary.org
SUMMARY:Story Time
DESCRIPTION:Join us for Story Time! Each week we explore a different theme through stories\, songs\, games\, and a craft\, followed by playtime.
URL:https://www.kensingtonpubliclibrary.org/event/story-time-33/
CATEGORIES:Story Time
END:VEVENT
BEGIN:VEVENT
DTSTART;TZID=America/New_York:20260303T103000
DTEND;TZID=America/New_York:20260303T113000
DTSTAMP:20260423T163257
CREATED:20260124T170816Z
LAST-MODIFIED:20260124T170816Z
UID:7530-1772533800-1772537400@www.kensingtonpubliclibrary.org
SUMMARY:Story Time
DESCRIPTION:Join us for Story Time! Each week we explore a different theme through stories\, songs\, games\, and a craft\, followed by playtime.
URL:https://www.kensingtonpubliclibrary.org/event/story-time-31/
CATEGORIES:Story Time
END:VEVENT
BEGIN:VEVENT
DTSTART;TZID=America/New_York:20260226T130000
DTEND;TZID=America/New_York:20260226T140000
DTSTAMP:20260423T163257
CREATED:20260124T170741Z
LAST-MODIFIED:20260124T170741Z
UID:7528-1772110800-1772114400@www.kensingtonpubliclibrary.org
SUMMARY:Story Time
DESCRIPTION:Join us for Story Time! Each week we explore a different theme through stories\, songs\, games\, and a craft\, followed by playtime.
URL:https://www.kensingtonpubliclibrary.org/event/story-time-30/
CATEGORIES:Story Time
END:VEVENT
BEGIN:VEVENT
DTSTART;TZID=America/New_York:20260224T103000
DTEND;TZID=America/New_York:20260224T113000
DTSTAMP:20260423T163257
CREATED:20260124T170719Z
LAST-MODIFIED:20260124T170719Z
UID:7526-1771929000-1771932600@www.kensingtonpubliclibrary.org
SUMMARY:Story Time
DESCRIPTION:Join us for Story Time! Each week we explore a different theme through stories\, songs\, games\, and a craft\, followed by playtime.
URL:https://www.kensingtonpubliclibrary.org/event/story-time-29/
CATEGORIES:Story Time
END:VEVENT
BEGIN:VEVENT
DTSTART;TZID=America/New_York:20260219T130000
DTEND;TZID=America/New_York:20260219T140000
DTSTAMP:20260423T163257
CREATED:20260124T170657Z
LAST-MODIFIED:20260124T170657Z
UID:7524-1771506000-1771509600@www.kensingtonpubliclibrary.org
SUMMARY:Story Time
DESCRIPTION:Join us for Story Time! Each week we explore a different theme through stories\, songs\, games\, and a craft\, followed by playtime.
URL:https://www.kensingtonpubliclibrary.org/event/story-time-28/
CATEGORIES:Story Time
END:VEVENT
BEGIN:VEVENT
DTSTART;TZID=America/New_York:20260217T103000
DTEND;TZID=America/New_York:20260217T113000
DTSTAMP:20260423T163257
CREATED:20260124T170635Z
LAST-MODIFIED:20260124T170635Z
UID:7522-1771324200-1771327800@www.kensingtonpubliclibrary.org
SUMMARY:Story Time
DESCRIPTION:Join us for Story Time! Each week we explore a different theme through stories\, songs\, games\, and a craft\, followed by playtime.
URL:https://www.kensingtonpubliclibrary.org/event/story-time-27/
CATEGORIES:Story Time
END:VEVENT
BEGIN:VEVENT
DTSTART;TZID=America/New_York:20260212T130000
DTEND;TZID=America/New_York:20260212T140000
DTSTAMP:20260423T163257
CREATED:20260124T170612Z
LAST-MODIFIED:20260124T170612Z
UID:7520-1770901200-1770904800@www.kensingtonpubliclibrary.org
SUMMARY:Story Time
DESCRIPTION:Join us for Story Time! Each week we explore a different theme through stories\, songs\, games\, and a craft\, followed by playtime.
URL:https://www.kensingtonpubliclibrary.org/event/story-time-26/
CATEGORIES:Story Time
END:VEVENT
BEGIN:VEVENT
DTSTART;TZID=America/New_York:20260210T103000
DTEND;TZID=America/New_York:20260210T233000
DTSTAMP:20260423T163257
CREATED:20260124T170550Z
LAST-MODIFIED:20260124T170550Z
UID:7518-1770719400-1770766200@www.kensingtonpubliclibrary.org
SUMMARY:Story Time
DESCRIPTION:Join us for Story Time! Each week we explore a different theme through stories\, songs\, games\, and a craft\, followed by playtime.
URL:https://www.kensingtonpubliclibrary.org/event/story-time-25/
CATEGORIES:Story Time
END:VEVENT
BEGIN:VEVENT
DTSTART;TZID=America/New_York:20260205T130000
DTEND;TZID=America/New_York:20260205T140000
DTSTAMP:20260423T163257
CREATED:20260124T171245Z
LAST-MODIFIED:20260124T171245Z
UID:7550-1770296400-1770300000@www.kensingtonpubliclibrary.org
SUMMARY:Story Time
DESCRIPTION:Join us for Story Time! Each week we explore a different theme through stories\, songs\, games\, and a craft\, followed by playtime.
URL:https://www.kensingtonpubliclibrary.org/event/story-time-41/
CATEGORIES:Story Time
END:VEVENT
BEGIN:VEVENT
DTSTART;TZID=America/New_York:20260203T103000
DTEND;TZID=America/New_York:20260203T113000
DTSTAMP:20260423T163257
CREATED:20260124T170448Z
LAST-MODIFIED:20260124T170448Z
UID:7514-1770114600-1770118200@www.kensingtonpubliclibrary.org
SUMMARY:Story Time
DESCRIPTION:Join us for Story Time! Each week we explore a different theme through stories\, songs\, games\, and a craft\, followed by playtime.
URL:https://www.kensingtonpubliclibrary.org/event/story-time-23/
CATEGORIES:Story Time
END:VEVENT
BEGIN:VEVENT
DTSTART;TZID=America/New_York:20260129T130000
DTEND;TZID=America/New_York:20260129T140000
DTSTAMP:20260423T163257
CREATED:20260124T170253Z
LAST-MODIFIED:20260124T170253Z
UID:7512-1769691600-1769695200@www.kensingtonpubliclibrary.org
SUMMARY:Story Time
DESCRIPTION:Join us for Story Time! Each week we explore a different theme through stories\, songs\, games\, and a craft\, followed by playtime.
URL:https://www.kensingtonpubliclibrary.org/event/story-time-10/
CATEGORIES:Story Time
END:VEVENT
BEGIN:VEVENT
DTSTART;TZID=America/New_York:20260127T103000
DTEND;TZID=America/New_York:20260127T113000
DTSTAMP:20260423T163257
CREATED:20260124T170224Z
LAST-MODIFIED:20260124T170224Z
UID:7510-1769509800-1769513400@www.kensingtonpubliclibrary.org
SUMMARY:Story Time
DESCRIPTION:Join us for Story Time! Each week we explore a different theme through stories\, songs\, games\, and a craft\, followed by playtime.
URL:https://www.kensingtonpubliclibrary.org/event/story-time-4/
CATEGORIES:Story Time
END:VEVENT
BEGIN:VEVENT
DTSTART;TZID=America/New_York:20250624T103000
DTEND;TZID=America/New_York:20250624T233000
DTSTAMP:20260423T163257
CREATED:20250402T152019Z
LAST-MODIFIED:20250402T152019Z
UID:7099-1750761000-1750807800@www.kensingtonpubliclibrary.org
SUMMARY:Story Time
DESCRIPTION:Join us for Story Time! Each week we explore a different theme through stories\, songs\, games\, and a craft\, followed by playtime.
URL:https://www.kensingtonpubliclibrary.org/event/story-time-22/
CATEGORIES:Kids,Story Time
END:VEVENT
BEGIN:VEVENT
DTSTART;TZID=America/New_York:20250617T103000
DTEND;TZID=America/New_York:20250617T113000
DTSTAMP:20260423T163257
CREATED:20250402T151947Z
LAST-MODIFIED:20250402T151947Z
UID:7097-1750156200-1750159800@www.kensingtonpubliclibrary.org
SUMMARY:Story Time
DESCRIPTION:Join us for Story Time! Each week we explore a different theme through stories\, songs\, games\, and a craft\, followed by playtime.
URL:https://www.kensingtonpubliclibrary.org/event/story-time-21/
CATEGORIES:Kids,Story Time
END:VEVENT
BEGIN:VEVENT
DTSTART;TZID=America/New_York:20250610T103000
DTEND;TZID=America/New_York:20250610T113000
DTSTAMP:20260423T163257
CREATED:20250402T151918Z
LAST-MODIFIED:20250402T151918Z
UID:7095-1749551400-1749555000@www.kensingtonpubliclibrary.org
SUMMARY:Story Time
DESCRIPTION:Join us for Story Time! Each week we explore a different theme through stories\, songs\, games\, and a craft\, followed by playtime.
URL:https://www.kensingtonpubliclibrary.org/event/story-time-20/
CATEGORIES:Kids,Story Time
END:VEVENT
BEGIN:VEVENT
DTSTART;TZID=America/New_York:20250603T103000
DTEND;TZID=America/New_York:20250603T113000
DTSTAMP:20260423T163257
CREATED:20250402T151850Z
LAST-MODIFIED:20250402T151850Z
UID:7093-1748946600-1748950200@www.kensingtonpubliclibrary.org
SUMMARY:Story Time
DESCRIPTION:Join us for Story Time! Each week we explore a different theme through stories\, songs\, games\, and a craft\, followed by playtime.
URL:https://www.kensingtonpubliclibrary.org/event/story-time-19/
CATEGORIES:Kids,Story Time
END:VEVENT
END:VCALENDAR