BEGIN:VCALENDAR
VERSION:2.0
PRODID:-//KENSINGTON PUBLIC LIBRARY - ECPv6.15.1.1//NONSGML v1.0//EN
CALSCALE:GREGORIAN
METHOD:PUBLISH
X-WR-CALNAME:KENSINGTON PUBLIC LIBRARY
X-ORIGINAL-URL:https://www.kensingtonpubliclibrary.org
X-WR-CALDESC:Events for KENSINGTON PUBLIC LIBRARY
REFRESH-INTERVAL;VALUE=DURATION:PT1H
X-Robots-Tag:noindex
X-PUBLISHED-TTL:PT1H
BEGIN:VTIMEZONE
TZID:UTC
BEGIN:STANDARD
TZOFFSETFROM:+0000
TZOFFSETTO:+0000
TZNAME:UTC
DTSTART:20250101T000000
END:STANDARD
END:VTIMEZONE
BEGIN:VEVENT
DTSTART;TZID=UTC:20250212T190000
DTEND;TZID=UTC:20250212T200000
DTSTAMP:20260423T193044
CREATED:20250110T194048Z
LAST-MODIFIED:20250110T194048Z
UID:7000-1739386800-1739390400@www.kensingtonpubliclibrary.org
SUMMARY:Jane Oneail: Rhythm and Hues: The Harlem Renaissance and Its Legacy (virtual)
DESCRIPTION:This is the first of four virtual presentations by Jane Oneail in 2025. \nThe Harlem Renaissance\, a cultural explosion in the 1920s\, saw African American artists challenge stereotypes and celebrate their heritage. From the poetic simplicity of Jacob Lawrence to the cosmopolitan portrait photographs of James Van Der Zee\, this era produced works that continue to resonate today. Discover the visionaries who gave voice to the African American experience and forever changed the landscape of American culture.
URL:https://www.kensingtonpubliclibrary.org/event/jane-oneail-rhythm-and-hues-the-harlem-renaissance-and-its-legacy-virtual/
CATEGORIES:Virtual Event
END:VEVENT
END:VCALENDAR