BEGIN:VCALENDAR
VERSION:2.0
PRODID:-//KENSINGTON PUBLIC LIBRARY - ECPv6.15.1.1//NONSGML v1.0//EN
CALSCALE:GREGORIAN
METHOD:PUBLISH
X-ORIGINAL-URL:https://www.kensingtonpubliclibrary.org
X-WR-CALDESC:Events for KENSINGTON PUBLIC LIBRARY
REFRESH-INTERVAL;VALUE=DURATION:PT1H
X-Robots-Tag:noindex
X-PUBLISHED-TTL:PT1H
BEGIN:VTIMEZONE
TZID:America/New_York
BEGIN:DAYLIGHT
TZOFFSETFROM:-0500
TZOFFSETTO:-0400
TZNAME:EDT
DTSTART:20260308T070000
END:DAYLIGHT
BEGIN:STANDARD
TZOFFSETFROM:-0400
TZOFFSETTO:-0500
TZNAME:EST
DTSTART:20261101T060000
END:STANDARD
END:VTIMEZONE
BEGIN:VEVENT
DTSTART;TZID=America/New_York:20260407T103000
DTEND;TZID=America/New_York:20260407T113000
DTSTAMP:20260423T180204
CREATED:20260124T171452Z
LAST-MODIFIED:20260124T171452Z
UID:7554-1775557800-1775561400@www.kensingtonpubliclibrary.org
SUMMARY:Story Time
DESCRIPTION:Join us for Story Time! Each week we explore a different theme through stories\, songs\, games\, and a craft\, followed by playtime.
URL:https://www.kensingtonpubliclibrary.org/event/story-time-24/
CATEGORIES:Story Time
END:VEVENT
BEGIN:VEVENT
DTSTART;TZID=America/New_York:20260409T130000
DTEND;TZID=America/New_York:20260409T140000
DTSTAMP:20260423T180204
CREATED:20260124T171511Z
LAST-MODIFIED:20260124T171511Z
UID:7556-1775739600-1775743200@www.kensingtonpubliclibrary.org
SUMMARY:Story Time
DESCRIPTION:Join us for Story Time! Each week we explore a different theme through stories\, songs\, games\, and a craft\, followed by playtime.
URL:https://www.kensingtonpubliclibrary.org/event/story-time-32/
CATEGORIES:Story Time
END:VEVENT
BEGIN:VEVENT
DTSTART;TZID=America/New_York:20260411T110000
DTEND;TZID=America/New_York:20260411T130000
DTSTAMP:20260423T180204
CREATED:20260320T170302Z
LAST-MODIFIED:20260320T170302Z
UID:7647-1775905200-1775912400@www.kensingtonpubliclibrary.org
SUMMARY:Julie Cyr: Needle Felting! *registration required*
DESCRIPTION:Julie Cyr returns for a needle felting workshop.  Let’s create a hedgehog!! \nThis is a popular activity and there is only room for 12 participants\, so let us know if you want to attend.
URL:https://www.kensingtonpubliclibrary.org/event/julie-cyr-needle-felting-registration-required/
ATTACH;FMTTYPE=image/png:https://www.kensingtonpubliclibrary.org/wp-content/uploads/2026/03/Picture1.png
END:VEVENT
BEGIN:VEVENT
DTSTART;TZID=America/New_York:20260414T103000
DTEND;TZID=America/New_York:20260414T113000
DTSTAMP:20260423T180204
CREATED:20260131T150019Z
LAST-MODIFIED:20260131T150019Z
UID:7571-1776162600-1776166200@www.kensingtonpubliclibrary.org
SUMMARY:Story Time
DESCRIPTION:Join us for Story Time! Each week we explore a different theme through stories\, songs\, games\, and a craft\, followed by playtime.
URL:https://www.kensingtonpubliclibrary.org/event/story-time-43/
CATEGORIES:Story Time
END:VEVENT
BEGIN:VEVENT
DTSTART;TZID=America/New_York:20260415T190000
DTEND;TZID=America/New_York:20260415T200000
DTSTAMP:20260423T180204
CREATED:20260320T170352Z
LAST-MODIFIED:20260320T170352Z
UID:7650-1776279600-1776283200@www.kensingtonpubliclibrary.org
SUMMARY:Jane Oneail: "From Tiffany to Chihuly: Masters of Glass Art" (virtual)
DESCRIPTION:
URL:https://www.kensingtonpubliclibrary.org/event/jane-oneail-from-tiffany-to-chihuly-masters-of-glass-art-virtual/
CATEGORIES:Virtual Event
END:VEVENT
BEGIN:VEVENT
DTSTART;TZID=America/New_York:20260416T130000
DTEND;TZID=America/New_York:20260416T140000
DTSTAMP:20260423T180204
CREATED:20260131T150043Z
LAST-MODIFIED:20260131T150043Z
UID:7573-1776344400-1776348000@www.kensingtonpubliclibrary.org
SUMMARY:Story Time
DESCRIPTION:Join us for Story Time! Each week we explore a different theme through stories\, songs\, games\, and a craft\, followed by playtime.
URL:https://www.kensingtonpubliclibrary.org/event/story-time-44/
CATEGORIES:Story Time
END:VEVENT
BEGIN:VEVENT
DTSTART;TZID=America/New_York:20260421T103000
DTEND;TZID=America/New_York:20260421T233000
DTSTAMP:20260423T180204
CREATED:20260131T150122Z
LAST-MODIFIED:20260131T150122Z
UID:7575-1776767400-1776814200@www.kensingtonpubliclibrary.org
SUMMARY:Story Time
DESCRIPTION:Join us for Story Time! Each week we explore a different theme through stories\, songs\, games\, and a craft\, followed by playtime.
URL:https://www.kensingtonpubliclibrary.org/event/story-time-45/
CATEGORIES:Story Time
END:VEVENT
BEGIN:VEVENT
DTSTART;TZID=America/New_York:20260422T150000
DTEND;TZID=America/New_York:20260422T160000
DTSTAMP:20260423T180204
CREATED:20260320T170425Z
LAST-MODIFIED:20260320T170425Z
UID:7652-1776870000-1776873600@www.kensingtonpubliclibrary.org
SUMMARY:Lisa Doherty: "Your Credit Score and Credit Reports"
DESCRIPTION:
URL:https://www.kensingtonpubliclibrary.org/event/lisa-doherty-your-credit-score-and-credit-reports/
END:VEVENT
BEGIN:VEVENT
DTSTART;TZID=America/New_York:20260423T130000
DTEND;TZID=America/New_York:20260423T140000
DTSTAMP:20260423T180204
CREATED:20260131T150154Z
LAST-MODIFIED:20260131T150154Z
UID:7577-1776949200-1776952800@www.kensingtonpubliclibrary.org
SUMMARY:Story Time
DESCRIPTION:Join us for Story Time! Each week we explore a different theme through stories\, songs\, games\, and a craft\, followed by playtime.
URL:https://www.kensingtonpubliclibrary.org/event/story-time-46/
CATEGORIES:Story Time
END:VEVENT
BEGIN:VEVENT
DTSTART;TZID=America/New_York:20260428T103000
DTEND;TZID=America/New_York:20260428T113000
DTSTAMP:20260423T180204
CREATED:20260131T150225Z
LAST-MODIFIED:20260131T150225Z
UID:7579-1777372200-1777375800@www.kensingtonpubliclibrary.org
SUMMARY:Story Time
DESCRIPTION:Join us for Story Time! Each week we explore a different theme through stories\, songs\, games\, and a craft\, followed by playtime.
URL:https://www.kensingtonpubliclibrary.org/event/story-time-47/
CATEGORIES:Story Time
END:VEVENT
BEGIN:VEVENT
DTSTART;TZID=America/New_York:20260430T130000
DTEND;TZID=America/New_York:20260430T140000
DTSTAMP:20260423T180204
CREATED:20260131T150256Z
LAST-MODIFIED:20260131T150256Z
UID:7581-1777554000-1777557600@www.kensingtonpubliclibrary.org
SUMMARY:Story Time
DESCRIPTION:Join us for Story Time! Each week we explore a different theme through stories\, songs\, games\, and a craft\, followed by playtime.
URL:https://www.kensingtonpubliclibrary.org/event/story-time-48/
CATEGORIES:Story Time
END:VEVENT
BEGIN:VEVENT
DTSTART;TZID=America/New_York:20260505T103000
DTEND;TZID=America/New_York:20260505T113000
DTSTAMP:20260423T180204
CREATED:20260131T150329Z
LAST-MODIFIED:20260131T150653Z
UID:7583-1777977000-1777980600@www.kensingtonpubliclibrary.org
SUMMARY:Story Time
DESCRIPTION:Join us for Story Time! Each week we explore a different theme through stories\, songs\, games\, and a craft\, followed by playtime.
URL:https://www.kensingtonpubliclibrary.org/event/story-time-49/
CATEGORIES:Story Time
END:VEVENT
BEGIN:VEVENT
DTSTART;TZID=America/New_York:20260506T140000
DTEND;TZID=America/New_York:20260506T150000
DTSTAMP:20260423T180204
CREATED:20260320T170504Z
LAST-MODIFIED:20260320T170504Z
UID:7654-1778076000-1778079600@www.kensingtonpubliclibrary.org
SUMMARY:Craft: Make a Mason Jar Luminary
DESCRIPTION:
URL:https://www.kensingtonpubliclibrary.org/event/craft-make-a-mason-jar-luminary/
END:VEVENT
BEGIN:VEVENT
DTSTART;TZID=America/New_York:20260507T130000
DTEND;TZID=America/New_York:20260507T140000
DTSTAMP:20260423T180204
CREATED:20260131T150350Z
LAST-MODIFIED:20260131T150350Z
UID:7585-1778158800-1778162400@www.kensingtonpubliclibrary.org
SUMMARY:Story Time
DESCRIPTION:Join us for Story Time! Each week we explore a different theme through stories\, songs\, games\, and a craft\, followed by playtime.
URL:https://www.kensingtonpubliclibrary.org/event/story-time-50/
CATEGORIES:Story Time
END:VEVENT
BEGIN:VEVENT
DTSTART;TZID=America/New_York:20260512T103000
DTEND;TZID=America/New_York:20260512T113000
DTSTAMP:20260423T180204
CREATED:20260131T150414Z
LAST-MODIFIED:20260131T150414Z
UID:7587-1778581800-1778585400@www.kensingtonpubliclibrary.org
SUMMARY:Story Time
DESCRIPTION:Join us for Story Time! Each week we explore a different theme through stories\, songs\, games\, and a craft\, followed by playtime.
URL:https://www.kensingtonpubliclibrary.org/event/story-time-51/
CATEGORIES:Story Time
END:VEVENT
BEGIN:VEVENT
DTSTART;TZID=America/New_York:20260514T130000
DTEND;TZID=America/New_York:20260514T140000
DTSTAMP:20260423T180204
CREATED:20260131T150453Z
LAST-MODIFIED:20260131T150453Z
UID:7589-1778763600-1778767200@www.kensingtonpubliclibrary.org
SUMMARY:Story Time
DESCRIPTION:Join us for Story Time! Each week we explore a different theme through stories\, songs\, games\, and a craft\, followed by playtime.
URL:https://www.kensingtonpubliclibrary.org/event/story-time-52/
CATEGORIES:Story Time
END:VEVENT
BEGIN:VEVENT
DTSTART;TZID=America/New_York:20260516T090000
DTEND;TZID=America/New_York:20260516T130000
DTSTAMP:20260423T180204
CREATED:20260320T170613Z
LAST-MODIFIED:20260320T170613Z
UID:7658-1778922000-1778936400@www.kensingtonpubliclibrary.org
SUMMARY:Heirloom Tomato Seedling Sale
DESCRIPTION:
URL:https://www.kensingtonpubliclibrary.org/event/heirloom-tomato-seedling-sale/
END:VEVENT
BEGIN:VEVENT
DTSTART;TZID=America/New_York:20260519T103000
DTEND;TZID=America/New_York:20260519T113000
DTSTAMP:20260423T180204
CREATED:20260131T150522Z
LAST-MODIFIED:20260131T150522Z
UID:7591-1779186600-1779190200@www.kensingtonpubliclibrary.org
SUMMARY:Story Time
DESCRIPTION:Join us for Story Time! Each week we explore a different theme through stories\, songs\, games\, and a craft\, followed by playtime.
URL:https://www.kensingtonpubliclibrary.org/event/story-time-53/
CATEGORIES:Story Time
END:VEVENT
BEGIN:VEVENT
DTSTART;TZID=America/New_York:20260520T173000
DTEND;TZID=America/New_York:20260520T183000
DTSTAMP:20260423T180204
CREATED:20260320T170542Z
LAST-MODIFIED:20260320T170542Z
UID:7656-1779298200-1779301800@www.kensingtonpubliclibrary.org
SUMMARY:Jeffrey Zygmont: "America's Birth in Stirring Words"
DESCRIPTION:
URL:https://www.kensingtonpubliclibrary.org/event/jeffrey-zygmont-americas-birth-in-stirring-words/
END:VEVENT
BEGIN:VEVENT
DTSTART;TZID=America/New_York:20260521T130000
DTEND;TZID=America/New_York:20260521T140000
DTSTAMP:20260423T180204
CREATED:20260131T150539Z
LAST-MODIFIED:20260131T150623Z
UID:7593-1779368400-1779372000@www.kensingtonpubliclibrary.org
SUMMARY:Story Time
DESCRIPTION:Join us for Story Time! Each week we explore a different theme through stories\, songs\, games\, and a craft\, followed by playtime.
URL:https://www.kensingtonpubliclibrary.org/event/story-time-54/
CATEGORIES:Story Time
END:VEVENT
BEGIN:VEVENT
DTSTART;TZID=America/New_York:20260526T103000
DTEND;TZID=America/New_York:20260526T113000
DTSTAMP:20260423T180204
CREATED:20260131T150721Z
LAST-MODIFIED:20260131T150721Z
UID:7596-1779791400-1779795000@www.kensingtonpubliclibrary.org
SUMMARY:Story Time
DESCRIPTION:Join us for Story Time! Each week we explore a different theme through stories\, songs\, games\, and a craft\, followed by playtime.
URL:https://www.kensingtonpubliclibrary.org/event/story-time-55/
CATEGORIES:Story Time
END:VEVENT
BEGIN:VEVENT
DTSTART;TZID=America/New_York:20260528T130000
DTEND;TZID=America/New_York:20260528T140000
DTSTAMP:20260423T180204
CREATED:20260131T150742Z
LAST-MODIFIED:20260131T150742Z
UID:7598-1779973200-1779976800@www.kensingtonpubliclibrary.org
SUMMARY:Story Time
DESCRIPTION:Join us for Story Time! Each week we explore a different theme through stories\, songs\, games\, and a craft\, followed by playtime.
URL:https://www.kensingtonpubliclibrary.org/event/story-time-56/
CATEGORIES:Story Time
END:VEVENT
END:VCALENDAR