BEGIN:VCALENDAR
VERSION:2.0
PRODID:-//KENSINGTON PUBLIC LIBRARY - ECPv6.15.1.1//NONSGML v1.0//EN
CALSCALE:GREGORIAN
METHOD:PUBLISH
X-WR-CALNAME:KENSINGTON PUBLIC LIBRARY
X-ORIGINAL-URL:https://www.kensingtonpubliclibrary.org
X-WR-CALDESC:Events for KENSINGTON PUBLIC LIBRARY
REFRESH-INTERVAL;VALUE=DURATION:PT1H
X-Robots-Tag:noindex
X-PUBLISHED-TTL:PT1H
BEGIN:VTIMEZONE
TZID:America/New_York
BEGIN:DAYLIGHT
TZOFFSETFROM:-0500
TZOFFSETTO:-0400
TZNAME:EDT
DTSTART:20250309T070000
END:DAYLIGHT
BEGIN:STANDARD
TZOFFSETFROM:-0400
TZOFFSETTO:-0500
TZNAME:EST
DTSTART:20251102T060000
END:STANDARD
END:VTIMEZONE
BEGIN:VEVENT
DTSTART;TZID=America/New_York:20250715T100000
DTEND;TZID=America/New_York:20250726T170000
DTSTAMP:20260424T065726
CREATED:20250531T163824Z
LAST-MODIFIED:20250531T163824Z
UID:7175-1752573600-1753549200@www.kensingtonpubliclibrary.org
SUMMARY:Chameleon Hunt
DESCRIPTION:Find all the chameleons hiding in the library and get a prize! \nThis program will be running for two weeks during the library’s open hours.
URL:https://www.kensingtonpubliclibrary.org/event/chameleon-hunt/
CATEGORIES:Summer Reading Program
END:VEVENT
BEGIN:VEVENT
DTSTART;TZID=America/New_York:20250708T100000
DTEND;TZID=America/New_York:20250708T110000
DTSTAMP:20260424T065726
CREATED:20250531T163642Z
LAST-MODIFIED:20250531T163642Z
UID:7172-1751968800-1751972400@www.kensingtonpubliclibrary.org
SUMMARY:Mad Science of Maine
DESCRIPTION:Join us at the Sawyer Park Pavilion to see Mad Science of Maine! \nPlease call or e-mail the Kensington Public Library to sign up for each program.\n(603) 772-5022 • kensingtonlibrary@comcast.net
URL:https://www.kensingtonpubliclibrary.org/event/mad-science-of-maine/
LOCATION:Sawyer Park\, 16 Trundle Bed Ln\, Kensington\, NH\, 03833\, United States
CATEGORIES:Summer Reading Program
END:VEVENT
BEGIN:VEVENT
DTSTART;TZID=America/New_York:20250624T103000
DTEND;TZID=America/New_York:20250624T233000
DTSTAMP:20260424T065726
CREATED:20250402T152019Z
LAST-MODIFIED:20250402T152019Z
UID:7099-1750761000-1750807800@www.kensingtonpubliclibrary.org
SUMMARY:Story Time
DESCRIPTION:Join us for Story Time! Each week we explore a different theme through stories\, songs\, games\, and a craft\, followed by playtime.
URL:https://www.kensingtonpubliclibrary.org/event/story-time-22/
CATEGORIES:Kids,Story Time
END:VEVENT
BEGIN:VEVENT
DTSTART;TZID=America/New_York:20250617T103000
DTEND;TZID=America/New_York:20250617T113000
DTSTAMP:20260424T065726
CREATED:20250402T151947Z
LAST-MODIFIED:20250402T151947Z
UID:7097-1750156200-1750159800@www.kensingtonpubliclibrary.org
SUMMARY:Story Time
DESCRIPTION:Join us for Story Time! Each week we explore a different theme through stories\, songs\, games\, and a craft\, followed by playtime.
URL:https://www.kensingtonpubliclibrary.org/event/story-time-21/
CATEGORIES:Kids,Story Time
END:VEVENT
BEGIN:VEVENT
DTSTART;VALUE=DATE:20250617
DTEND;VALUE=DATE:20250618
DTSTAMP:20260424T065726
CREATED:20250531T163437Z
LAST-MODIFIED:20250531T163719Z
UID:7170-1750118400-1750204799@www.kensingtonpubliclibrary.org
SUMMARY:Summer Reading Registration Begins
DESCRIPTION:Register during the first week\, and be entered into a raffle to win two passes to Water Country! \nStop by the Library to register and pick up your reading book bag. The first 50 bags picked up will contain a FREE ice cream card for Twin Lanterns!
URL:https://www.kensingtonpubliclibrary.org/event/summer-reading-registration-begins/
CATEGORIES:Summer Reading Program
END:VEVENT
BEGIN:VEVENT
DTSTART;TZID=America/New_York:20250610T103000
DTEND;TZID=America/New_York:20250610T113000
DTSTAMP:20260424T065726
CREATED:20250402T151918Z
LAST-MODIFIED:20250402T151918Z
UID:7095-1749551400-1749555000@www.kensingtonpubliclibrary.org
SUMMARY:Story Time
DESCRIPTION:Join us for Story Time! Each week we explore a different theme through stories\, songs\, games\, and a craft\, followed by playtime.
URL:https://www.kensingtonpubliclibrary.org/event/story-time-20/
CATEGORIES:Kids,Story Time
END:VEVENT
BEGIN:VEVENT
DTSTART;TZID=America/New_York:20250609T140000
DTEND;TZID=America/New_York:20250609T150000
DTSTAMP:20260424T065726
CREATED:20250531T163340Z
LAST-MODIFIED:20250531T163340Z
UID:7168-1749477600-1749481200@www.kensingtonpubliclibrary.org
SUMMARY:Summer Reading Kick-Off Concert w/ Steve Blunt & Marty Kelley
DESCRIPTION:Join us for our Summer Reading Program Kickoff Concert featuring Steve Blunt & Marty Kelley in the KES Multipurpose room.
URL:https://www.kensingtonpubliclibrary.org/event/summer-reading-kick-off-concert-w-steve-blunt-marty-kelley/
CATEGORIES:Summer Reading Program
END:VEVENT
BEGIN:VEVENT
DTSTART;TZID=America/New_York:20250603T103000
DTEND;TZID=America/New_York:20250603T113000
DTSTAMP:20260424T065726
CREATED:20250402T151850Z
LAST-MODIFIED:20250402T151850Z
UID:7093-1748946600-1748950200@www.kensingtonpubliclibrary.org
SUMMARY:Story Time
DESCRIPTION:Join us for Story Time! Each week we explore a different theme through stories\, songs\, games\, and a craft\, followed by playtime.
URL:https://www.kensingtonpubliclibrary.org/event/story-time-19/
CATEGORIES:Kids,Story Time
END:VEVENT
BEGIN:VEVENT
DTSTART;TZID=America/New_York:20250529T130000
DTEND;TZID=America/New_York:20250529T150000
DTSTAMP:20260424T065726
CREATED:20250402T151818Z
LAST-MODIFIED:20250402T151818Z
UID:7091-1748523600-1748530800@www.kensingtonpubliclibrary.org
SUMMARY:Story Time
DESCRIPTION:Join us for Story Time! Each week we explore a different theme through stories\, songs\, games\, and a craft\, followed by playtime.
URL:https://www.kensingtonpubliclibrary.org/event/story-time-18/
CATEGORIES:Kids,Story Time
END:VEVENT
BEGIN:VEVENT
DTSTART;TZID=America/New_York:20250527T103000
DTEND;TZID=America/New_York:20250527T113000
DTSTAMP:20260424T065726
CREATED:20250402T151750Z
LAST-MODIFIED:20250402T151750Z
UID:7089-1748341800-1748345400@www.kensingtonpubliclibrary.org
SUMMARY:Story Time
DESCRIPTION:Join us for Story Time! Each week we explore a different theme through stories\, songs\, games\, and a craft\, followed by playtime.
URL:https://www.kensingtonpubliclibrary.org/event/story-time-17/
CATEGORIES:Kids,Story Time
END:VEVENT
BEGIN:VEVENT
DTSTART;TZID=America/New_York:20250522T130000
DTEND;TZID=America/New_York:20250522T150000
DTSTAMP:20260424T065726
CREATED:20250402T151723Z
LAST-MODIFIED:20250402T151723Z
UID:7087-1747918800-1747926000@www.kensingtonpubliclibrary.org
SUMMARY:Story Time
DESCRIPTION:Join us for Story Time! Each week we explore a different theme through stories\, songs\, games\, and a craft\, followed by playtime.
URL:https://www.kensingtonpubliclibrary.org/event/story-time-16/
CATEGORIES:Kids,Story Time
END:VEVENT
BEGIN:VEVENT
DTSTART;TZID=America/New_York:20250520T103000
DTEND;TZID=America/New_York:20250520T113000
DTSTAMP:20260424T065726
CREATED:20250402T151700Z
LAST-MODIFIED:20250402T151700Z
UID:7085-1747737000-1747740600@www.kensingtonpubliclibrary.org
SUMMARY:Story Time
DESCRIPTION:Join us for Story Time! Each week we explore a different theme through stories\, songs\, games\, and a craft\, followed by playtime.
URL:https://www.kensingtonpubliclibrary.org/event/story-time-15/
CATEGORIES:Kids,Story Time
END:VEVENT
BEGIN:VEVENT
DTSTART;TZID=America/New_York:20250515T130000
DTEND;TZID=America/New_York:20250515T140000
DTSTAMP:20260424T065726
CREATED:20250402T151627Z
LAST-MODIFIED:20250402T151627Z
UID:7083-1747314000-1747317600@www.kensingtonpubliclibrary.org
SUMMARY:Story Time
DESCRIPTION:Join us for Story Time! Each week we explore a different theme through stories\, songs\, games\, and a craft\, followed by playtime.
URL:https://www.kensingtonpubliclibrary.org/event/story-time-14/
CATEGORIES:Kids,Story Time
END:VEVENT
BEGIN:VEVENT
DTSTART;TZID=America/New_York:20250513T103000
DTEND;TZID=America/New_York:20250513T113000
DTSTAMP:20260424T065726
CREATED:20250402T145511Z
LAST-MODIFIED:20250402T145511Z
UID:7081-1747132200-1747135800@www.kensingtonpubliclibrary.org
SUMMARY:Story Time
DESCRIPTION:Join us for Story Time! Each week we explore a different theme through stories\, songs\, games\, and a craft\, followed by playtime.
URL:https://www.kensingtonpubliclibrary.org/event/story-time-13/
CATEGORIES:Kids,Story Time
END:VEVENT
BEGIN:VEVENT
DTSTART;TZID=America/New_York:20250508T130000
DTEND;TZID=America/New_York:20250508T140000
DTSTAMP:20260424T065726
CREATED:20250402T145343Z
LAST-MODIFIED:20250402T145400Z
UID:7077-1746709200-1746712800@www.kensingtonpubliclibrary.org
SUMMARY:Story Time
DESCRIPTION:Join us for Story Time! Each week we explore a different theme through stories\, songs\, games\, and a craft\, followed by playtime.
URL:https://www.kensingtonpubliclibrary.org/event/story-time-11/
CATEGORIES:Kids,Story Time
END:VEVENT
BEGIN:VEVENT
DTSTART;TZID=America/New_York:20250506T173000
DTEND;TZID=America/New_York:20250506T183000
DTSTAMP:20260424T065726
CREATED:20250402T145140Z
LAST-MODIFIED:20250402T145140Z
UID:7073-1746552600-1746556200@www.kensingtonpubliclibrary.org
SUMMARY:Egizia Brown: learn about Italy
DESCRIPTION:Join us and learn about Italy through the eyes of Egizia Brown\, the author of Rough Seas and Strange Food: Emigrating from Abruzza to Nova Scotia and  From Vico to Porta Nuova and Beyond: Memories of an Abruzzo Childhood. \nBesides teaching us about her native country\, she will also be bringing Italian cookies.  
URL:https://www.kensingtonpubliclibrary.org/event/egizia-brown-learn-about-italy/
CATEGORIES:In Person Event
END:VEVENT
BEGIN:VEVENT
DTSTART;TZID=America/New_York:20250506T103000
DTEND;TZID=America/New_York:20250506T113000
DTSTAMP:20260424T065726
CREATED:20250402T145437Z
LAST-MODIFIED:20250402T145437Z
UID:7079-1746527400-1746531000@www.kensingtonpubliclibrary.org
SUMMARY:Story Time
DESCRIPTION:Join us for Story Time! Each week we explore a different theme through stories\, songs\, games\, and a craft\, followed by playtime.
URL:https://www.kensingtonpubliclibrary.org/event/story-time-12/
CATEGORIES:Kids,Story Time
END:VEVENT
BEGIN:VEVENT
DTSTART;TZID=America/New_York:20250430T120000
DTEND;TZID=America/New_York:20250430T130000
DTSTAMP:20260424T065726
CREATED:20250413T002117Z
LAST-MODIFIED:20250413T002117Z
UID:7118-1746014400-1746018000@www.kensingtonpubliclibrary.org
SUMMARY:Book Club
DESCRIPTION:Our April book club will be held at the library on Wednesday\, April 30th at 12 noon. \nWe will be discussing our March book club choice for 30-45 minutes: Transatlantic by Colm McCann and then The Lioness of Boston by Emily Franklin. “A deeply evocative novel of the life of Isabella Stewart Gardner\, a daring visionary who created an inimitable legacy in American art and transformed the city of Boston itself.”
URL:https://www.kensingtonpubliclibrary.org/event/book-club/
END:VEVENT
BEGIN:VEVENT
DTSTART;TZID=America/New_York:20250429T130000
DTEND;TZID=America/New_York:20250429T150000
DTSTAMP:20260424T065726
CREATED:20250402T144332Z
LAST-MODIFIED:20250402T144332Z
UID:7057-1745931600-1745938800@www.kensingtonpubliclibrary.org
SUMMARY:Mah Jongg Club
DESCRIPTION:
URL:https://www.kensingtonpubliclibrary.org/event/mah-jongg-club-4/
END:VEVENT
BEGIN:VEVENT
DTSTART;TZID=America/New_York:20250425T130000
DTEND;TZID=America/New_York:20250425T150000
DTSTAMP:20260424T065726
CREATED:20250402T144948Z
LAST-MODIFIED:20250413T002336Z
UID:7071-1745586000-1745593200@www.kensingtonpubliclibrary.org
SUMMARY:Ellie Atherton:  The Last Phase of Life:  Preparation ~ Caregiving ~ Embracing the Mystery
DESCRIPTION:Join us for a meaningful conversation and Ellie’s practical guidance on preparing for the final phase of life. This will be a wonderful opportunity to learn from her many years of experience. \nTopics will include: \n\nUnderstanding Advance Directives\, Portable DNR\, and POLST\nWhen to start planning\nBecoming a caregiver\nRecognizing the phases – life review\, physical changes\, last days\, death bed visions\, and final hours\nHaving eyes for the mystery and beauty during this sacred time of life\n\n  \nEllie Atherton\, RN\, author of Stepping Stones\, has been caring for the dying as a hospice nurse since 2003. She has presented a TEDx talk\, designed and taught courses\, and offers public presentations to enhance knowledge and reduce fears of dying.
URL:https://www.kensingtonpubliclibrary.org/event/ellie-atherton-the-last-phase-of-life-preparation-caregiving-embracing-the-mystery/
CATEGORIES:In Person Event
END:VEVENT
BEGIN:VEVENT
DTSTART;TZID=America/New_York:20250424T130000
DTEND;TZID=America/New_York:20250424T140000
DTSTAMP:20260424T065726
CREATED:20250402T144544Z
LAST-MODIFIED:20250402T144544Z
UID:7067-1745499600-1745503200@www.kensingtonpubliclibrary.org
SUMMARY:Story Time
DESCRIPTION:Join us for Story Time! Each week we explore a different theme through stories\, songs\, games\, and a craft\, followed by playtime.
URL:https://www.kensingtonpubliclibrary.org/event/story-time-9/
CATEGORIES:Kids,Story Time
END:VEVENT
BEGIN:VEVENT
DTSTART;TZID=America/New_York:20250422T130000
DTEND;TZID=America/New_York:20250422T150000
DTSTAMP:20260424T065726
CREATED:20250402T144301Z
LAST-MODIFIED:20250402T144301Z
UID:7055-1745326800-1745334000@www.kensingtonpubliclibrary.org
SUMMARY:Mah Jongg Club
DESCRIPTION:
URL:https://www.kensingtonpubliclibrary.org/event/mah-jongg-club-3/
END:VEVENT
BEGIN:VEVENT
DTSTART;TZID=America/New_York:20250422T103000
DTEND;TZID=America/New_York:20250422T113000
DTSTAMP:20260424T065726
CREATED:20250402T144002Z
LAST-MODIFIED:20250402T144002Z
UID:7047-1745317800-1745321400@www.kensingtonpubliclibrary.org
SUMMARY:Story Time
DESCRIPTION:Join us for Story Time! Each week we explore a different theme through stories\, songs\, games\, and a craft\, followed by playtime.
URL:https://www.kensingtonpubliclibrary.org/event/story-time-3/
CATEGORIES:Kids,Story Time
END:VEVENT
BEGIN:VEVENT
DTSTART;TZID=America/New_York:20250417T130000
DTEND;TZID=America/New_York:20250417T140000
DTSTAMP:20260424T065726
CREATED:20250402T144525Z
LAST-MODIFIED:20250402T144525Z
UID:7065-1744894800-1744898400@www.kensingtonpubliclibrary.org
SUMMARY:Story Time
DESCRIPTION:Join us for Story Time! Each week we explore a different theme through stories\, songs\, games\, and a craft\, followed by playtime.
URL:https://www.kensingtonpubliclibrary.org/event/story-time-8/
CATEGORIES:Kids,Story Time
END:VEVENT
BEGIN:VEVENT
DTSTART;TZID=America/New_York:20250416T190000
DTEND;TZID=America/New_York:20250416T200000
DTSTAMP:20260424T065726
CREATED:20250402T144827Z
LAST-MODIFIED:20250413T001956Z
UID:7069-1744830000-1744833600@www.kensingtonpubliclibrary.org
SUMMARY:The Treasures of the Gardner Museum: A Journey Through Art and History presented by Jane Oneail (virtual)
DESCRIPTION:Jane Oneail returns to KPL for another wonderful\, informative zoom talk on art. \nThis one will be The Treasures of the Gardner Museum: A Journey Through Art and History. \nThe Isabella Stewart Gardner Museum in Boston houses an exquisite collection of art spanning centuries and cultures\, all displayed in a stunning Venetian-style palazzo. \nThis program offers visitors a glimpse into the fascinating world of Isabella Stewart Gardner\, an eccentric patron of the arts who carefully curated every aspect of her eclectic museum. From masterpieces by Rembrandt and Titian to delicate textiles and precious works on paper\, the Gardner Museum invites you to explore a captivating blend of art\, history\, and one woman’s extraordinary vision. \nLink To register:  https://us02web.zoom.us/meeting/register/9Y2u4AOdTHu2zvSUVirLvg
URL:https://www.kensingtonpubliclibrary.org/event/the-treasures-of-the-gardner-museum-a-journey-through-art-and-history-presented-by-jane-oneail-virtual/
CATEGORIES:Virtual Event
ATTACH;FMTTYPE=image/jpeg:https://www.kensingtonpubliclibrary.org/wp-content/uploads/2025/04/gardber.jpg
END:VEVENT
BEGIN:VEVENT
DTSTART;TZID=America/New_York:20250415T130000
DTEND;TZID=America/New_York:20250415T150000
DTSTAMP:20260424T065726
CREATED:20250402T144246Z
LAST-MODIFIED:20250402T144246Z
UID:7053-1744722000-1744729200@www.kensingtonpubliclibrary.org
SUMMARY:Mah Jongg Club
DESCRIPTION:
URL:https://www.kensingtonpubliclibrary.org/event/mah-jongg-club-2/
END:VEVENT
BEGIN:VEVENT
DTSTART;TZID=America/New_York:20250415T103000
DTEND;TZID=America/New_York:20250415T113000
DTSTAMP:20260424T065726
CREATED:20250402T143941Z
LAST-MODIFIED:20250402T143941Z
UID:7045-1744713000-1744716600@www.kensingtonpubliclibrary.org
SUMMARY:Story Time
DESCRIPTION:Join us for Story Time! Each week we explore a different theme through stories\, songs\, games\, and a craft\, followed by playtime.
URL:https://www.kensingtonpubliclibrary.org/event/story-time-2/
CATEGORIES:Kids,Story Time
END:VEVENT
BEGIN:VEVENT
DTSTART;TZID=America/New_York:20250410T130000
DTEND;TZID=America/New_York:20250410T140000
DTSTAMP:20260424T065726
CREATED:20250402T144425Z
LAST-MODIFIED:20250402T144425Z
UID:7061-1744290000-1744293600@www.kensingtonpubliclibrary.org
SUMMARY:Story Time
DESCRIPTION:Join us for Story Time! Each week we explore a different theme through stories\, songs\, games\, and a craft\, followed by playtime.
URL:https://www.kensingtonpubliclibrary.org/event/story-time-6/
CATEGORIES:Kids,Story Time
END:VEVENT
BEGIN:VEVENT
DTSTART;TZID=America/New_York:20250408T130000
DTEND;TZID=America/New_York:20250408T150000
DTSTAMP:20260424T065726
CREATED:20250402T144225Z
LAST-MODIFIED:20250402T144225Z
UID:7051-1744117200-1744124400@www.kensingtonpubliclibrary.org
SUMMARY:Mah Jongg Club
DESCRIPTION:
URL:https://www.kensingtonpubliclibrary.org/event/mah-jongg-club/
END:VEVENT
BEGIN:VEVENT
DTSTART;TZID=America/New_York:20250408T103000
DTEND;TZID=America/New_York:20250408T113000
DTSTAMP:20260424T065726
CREATED:20250402T143824Z
LAST-MODIFIED:20250402T143824Z
UID:7043-1744108200-1744111800@www.kensingtonpubliclibrary.org
SUMMARY:Story Time
DESCRIPTION:Join us for Story Time! Each week we explore a different theme through stories\, songs\, games\, and a craft\, followed by playtime.
URL:https://www.kensingtonpubliclibrary.org/event/story-time/
CATEGORIES:Kids
END:VEVENT
END:VCALENDAR