BEGIN:VCALENDAR
VERSION:2.0
PRODID:-//KENSINGTON PUBLIC LIBRARY - ECPv6.15.1.1//NONSGML v1.0//EN
CALSCALE:GREGORIAN
METHOD:PUBLISH
X-ORIGINAL-URL:https://www.kensingtonpubliclibrary.org
X-WR-CALDESC:Events for KENSINGTON PUBLIC LIBRARY
REFRESH-INTERVAL;VALUE=DURATION:PT1H
X-Robots-Tag:noindex
X-PUBLISHED-TTL:PT1H
BEGIN:VTIMEZONE
TZID:America/New_York
BEGIN:DAYLIGHT
TZOFFSETFROM:-0500
TZOFFSETTO:-0400
TZNAME:EDT
DTSTART:20260308T070000
END:DAYLIGHT
BEGIN:STANDARD
TZOFFSETFROM:-0400
TZOFFSETTO:-0500
TZNAME:EST
DTSTART:20261101T060000
END:STANDARD
END:VTIMEZONE
BEGIN:VEVENT
DTSTART;TZID=America/New_York:20260507T130000
DTEND;TZID=America/New_York:20260507T140000
DTSTAMP:20260423T193839
CREATED:20260131T150350Z
LAST-MODIFIED:20260131T150350Z
UID:7585-1778158800-1778162400@www.kensingtonpubliclibrary.org
SUMMARY:Story Time
DESCRIPTION:Join us for Story Time! Each week we explore a different theme through stories\, songs\, games\, and a craft\, followed by playtime.
URL:https://www.kensingtonpubliclibrary.org/event/story-time-50/
CATEGORIES:Story Time
END:VEVENT
BEGIN:VEVENT
DTSTART;TZID=America/New_York:20260512T103000
DTEND;TZID=America/New_York:20260512T113000
DTSTAMP:20260423T193839
CREATED:20260131T150414Z
LAST-MODIFIED:20260131T150414Z
UID:7587-1778581800-1778585400@www.kensingtonpubliclibrary.org
SUMMARY:Story Time
DESCRIPTION:Join us for Story Time! Each week we explore a different theme through stories\, songs\, games\, and a craft\, followed by playtime.
URL:https://www.kensingtonpubliclibrary.org/event/story-time-51/
CATEGORIES:Story Time
END:VEVENT
BEGIN:VEVENT
DTSTART;TZID=America/New_York:20260514T130000
DTEND;TZID=America/New_York:20260514T140000
DTSTAMP:20260423T193839
CREATED:20260131T150453Z
LAST-MODIFIED:20260131T150453Z
UID:7589-1778763600-1778767200@www.kensingtonpubliclibrary.org
SUMMARY:Story Time
DESCRIPTION:Join us for Story Time! Each week we explore a different theme through stories\, songs\, games\, and a craft\, followed by playtime.
URL:https://www.kensingtonpubliclibrary.org/event/story-time-52/
CATEGORIES:Story Time
END:VEVENT
BEGIN:VEVENT
DTSTART;TZID=America/New_York:20260516T090000
DTEND;TZID=America/New_York:20260516T130000
DTSTAMP:20260423T193839
CREATED:20260320T170613Z
LAST-MODIFIED:20260320T170613Z
UID:7658-1778922000-1778936400@www.kensingtonpubliclibrary.org
SUMMARY:Heirloom Tomato Seedling Sale
DESCRIPTION:
URL:https://www.kensingtonpubliclibrary.org/event/heirloom-tomato-seedling-sale/
END:VEVENT
BEGIN:VEVENT
DTSTART;TZID=America/New_York:20260519T103000
DTEND;TZID=America/New_York:20260519T113000
DTSTAMP:20260423T193839
CREATED:20260131T150522Z
LAST-MODIFIED:20260131T150522Z
UID:7591-1779186600-1779190200@www.kensingtonpubliclibrary.org
SUMMARY:Story Time
DESCRIPTION:Join us for Story Time! Each week we explore a different theme through stories\, songs\, games\, and a craft\, followed by playtime.
URL:https://www.kensingtonpubliclibrary.org/event/story-time-53/
CATEGORIES:Story Time
END:VEVENT
BEGIN:VEVENT
DTSTART;TZID=America/New_York:20260520T173000
DTEND;TZID=America/New_York:20260520T183000
DTSTAMP:20260423T193839
CREATED:20260320T170542Z
LAST-MODIFIED:20260320T170542Z
UID:7656-1779298200-1779301800@www.kensingtonpubliclibrary.org
SUMMARY:Jeffrey Zygmont: "America's Birth in Stirring Words"
DESCRIPTION:
URL:https://www.kensingtonpubliclibrary.org/event/jeffrey-zygmont-americas-birth-in-stirring-words/
END:VEVENT
BEGIN:VEVENT
DTSTART;TZID=America/New_York:20260521T130000
DTEND;TZID=America/New_York:20260521T140000
DTSTAMP:20260423T193839
CREATED:20260131T150539Z
LAST-MODIFIED:20260131T150623Z
UID:7593-1779368400-1779372000@www.kensingtonpubliclibrary.org
SUMMARY:Story Time
DESCRIPTION:Join us for Story Time! Each week we explore a different theme through stories\, songs\, games\, and a craft\, followed by playtime.
URL:https://www.kensingtonpubliclibrary.org/event/story-time-54/
CATEGORIES:Story Time
END:VEVENT
BEGIN:VEVENT
DTSTART;TZID=America/New_York:20260526T103000
DTEND;TZID=America/New_York:20260526T113000
DTSTAMP:20260423T193839
CREATED:20260131T150721Z
LAST-MODIFIED:20260131T150721Z
UID:7596-1779791400-1779795000@www.kensingtonpubliclibrary.org
SUMMARY:Story Time
DESCRIPTION:Join us for Story Time! Each week we explore a different theme through stories\, songs\, games\, and a craft\, followed by playtime.
URL:https://www.kensingtonpubliclibrary.org/event/story-time-55/
CATEGORIES:Story Time
END:VEVENT
BEGIN:VEVENT
DTSTART;TZID=America/New_York:20260528T130000
DTEND;TZID=America/New_York:20260528T140000
DTSTAMP:20260423T193839
CREATED:20260131T150742Z
LAST-MODIFIED:20260131T150742Z
UID:7598-1779973200-1779976800@www.kensingtonpubliclibrary.org
SUMMARY:Story Time
DESCRIPTION:Join us for Story Time! Each week we explore a different theme through stories\, songs\, games\, and a craft\, followed by playtime.
URL:https://www.kensingtonpubliclibrary.org/event/story-time-56/
CATEGORIES:Story Time
END:VEVENT
END:VCALENDAR