BEGIN:VCALENDAR
VERSION:2.0
PRODID:-//KENSINGTON PUBLIC LIBRARY - ECPv6.15.1.1//NONSGML v1.0//EN
CALSCALE:GREGORIAN
METHOD:PUBLISH
X-ORIGINAL-URL:https://www.kensingtonpubliclibrary.org
X-WR-CALDESC:Events for KENSINGTON PUBLIC LIBRARY
REFRESH-INTERVAL;VALUE=DURATION:PT1H
X-Robots-Tag:noindex
X-PUBLISHED-TTL:PT1H
BEGIN:VTIMEZONE
TZID:UTC
BEGIN:STANDARD
TZOFFSETFROM:+0000
TZOFFSETTO:+0000
TZNAME:UTC
DTSTART:20250101T000000
END:STANDARD
END:VTIMEZONE
BEGIN:VEVENT
DTSTART;TZID=UTC:20250305T173000
DTEND;TZID=UTC:20250305T173000
DTSTAMP:20260424T051438
CREATED:20250110T194252Z
LAST-MODIFIED:20250110T194252Z
UID:7002-1741195800-1741195800@www.kensingtonpubliclibrary.org
SUMMARY:Breeding Season Backyard Birds  with Steve Hale
DESCRIPTION:This is an engaging and interactive presentation featuring common and likely breeding season birds to any backyard in New England.  This presentation offers ID tips\, including learning a few birds by their song. Tips on feeding birds to attract the most diversity are also provided. Set up as a bird-quiz\, audience members love to test their own knowledge. \n 
URL:https://www.kensingtonpubliclibrary.org/event/breeding-season-backyard-birds-with-steve-hale/
LOCATION:Kensington Public Library\, 126 Amesbury Road\, Kensington\, NH\, 03833\, United States
CATEGORIES:In Person Event
END:VEVENT
BEGIN:VEVENT
DTSTART;TZID=UTC:20250309T150000
DTEND;TZID=UTC:20250309T160000
DTSTAMP:20260424T051438
CREATED:20250110T194403Z
LAST-MODIFIED:20250110T194403Z
UID:7004-1741532400-1741536000@www.kensingtonpubliclibrary.org
SUMMARY:Richard Kruppa presents World War II Songs and Stories
DESCRIPTION: In an entertaining and informational fashion\, Richard Kruppa presents World War II Songs and Stories.      \nThis program\, “illustrated” with music\, celebrates the 80th anniversary of the end of the war.  \nExeter’s Kruppa\, known musically as “Ramblin’ Richard\,” is a member of the New England Foundation for the Arts. He is retired professor who studied Gospel and American folk music\, and an active musician who makes more than 300 performances each year. He tells the stories and sings the songs while accompanying himself on guitar\, five-string banjo and baritone ukulele. (pix of Richard ) \n 
URL:https://www.kensingtonpubliclibrary.org/event/richard-kruppa-presents-world-war-ii-songs-and-stories/
LOCATION:Kensington Public Library\, 126 Amesbury Road\, Kensington\, NH\, 03833\, United States
CATEGORIES:In Person Event
END:VEVENT
END:VCALENDAR