BEGIN:VCALENDAR
VERSION:2.0
PRODID:-//KENSINGTON PUBLIC LIBRARY - ECPv6.15.1.1//NONSGML v1.0//EN
CALSCALE:GREGORIAN
METHOD:PUBLISH
X-WR-CALNAME:KENSINGTON PUBLIC LIBRARY
X-ORIGINAL-URL:https://www.kensingtonpubliclibrary.org
X-WR-CALDESC:Events for KENSINGTON PUBLIC LIBRARY
REFRESH-INTERVAL;VALUE=DURATION:PT1H
X-Robots-Tag:noindex
X-PUBLISHED-TTL:PT1H
BEGIN:VTIMEZONE
TZID:America/New_York
BEGIN:DAYLIGHT
TZOFFSETFROM:-0500
TZOFFSETTO:-0400
TZNAME:EDT
DTSTART:20260308T070000
END:DAYLIGHT
BEGIN:STANDARD
TZOFFSETFROM:-0400
TZOFFSETTO:-0500
TZNAME:EST
DTSTART:20261101T060000
END:STANDARD
END:VTIMEZONE
BEGIN:VEVENT
DTSTART;TZID=America/New_York:20260121T190000
DTEND;TZID=America/New_York:20260121T200000
DTSTAMP:20260423T150402
CREATED:20251230T205038Z
LAST-MODIFIED:20251230T205038Z
UID:7495-1769022000-1769025600@www.kensingtonpubliclibrary.org
SUMMARY:Jane Oneail presents: American Art at 250: Masterworks of a Nation  (virtual)
DESCRIPTION:Join us in celebrating America’s extraordinary artistic legacy as we commemorate our nation’s 250th anniversary with a curated exploration of the masterworks that have defined our cultural identity. From the luminous landscapes of the Hudson River School to the bold innovations of Abstract Expressionism\, this program showcases the diverse voices and revolutionary spirits that have shaped American art across two and a half centuries. Discover how American artists have continuously redefined not only our visual culture\, but art itself on the world stage. \n 
URL:https://www.kensingtonpubliclibrary.org/event/jane-oneail-presents-american-art-at-250-masterworks-of-a-nation-virtual/
CATEGORIES:Virtual Event
END:VEVENT
BEGIN:VEVENT
DTSTART;TZID=America/New_York:20260127T103000
DTEND;TZID=America/New_York:20260127T113000
DTSTAMP:20260423T150402
CREATED:20260124T170224Z
LAST-MODIFIED:20260124T170224Z
UID:7510-1769509800-1769513400@www.kensingtonpubliclibrary.org
SUMMARY:Story Time
DESCRIPTION:Join us for Story Time! Each week we explore a different theme through stories\, songs\, games\, and a craft\, followed by playtime.
URL:https://www.kensingtonpubliclibrary.org/event/story-time-4/
CATEGORIES:Story Time
END:VEVENT
BEGIN:VEVENT
DTSTART;TZID=America/New_York:20260129T130000
DTEND;TZID=America/New_York:20260129T140000
DTSTAMP:20260423T150402
CREATED:20260124T170253Z
LAST-MODIFIED:20260124T170253Z
UID:7512-1769691600-1769695200@www.kensingtonpubliclibrary.org
SUMMARY:Story Time
DESCRIPTION:Join us for Story Time! Each week we explore a different theme through stories\, songs\, games\, and a craft\, followed by playtime.
URL:https://www.kensingtonpubliclibrary.org/event/story-time-10/
CATEGORIES:Story Time
END:VEVENT
END:VCALENDAR